BEGIN:VCALENDAR
VERSION:2.0
PRODID:-//Verein Deutscher Distanzreiter und -fahrer e.V. - ECPv6.15.20//NONSGML v1.0//EN
CALSCALE:GREGORIAN
METHOD:PUBLISH
X-ORIGINAL-URL:https://vdd-aktuell.de
X-WR-CALDESC:Veranstaltungen für Verein Deutscher Distanzreiter und -fahrer e.V.
REFRESH-INTERVAL;VALUE=DURATION:PT1H
X-Robots-Tag:noindex
X-PUBLISHED-TTL:PT1H
BEGIN:VTIMEZONE
TZID:Europe/Berlin
BEGIN:DAYLIGHT
TZOFFSETFROM:+0100
TZOFFSETTO:+0200
TZNAME:CEST
DTSTART:20190331T010000
END:DAYLIGHT
BEGIN:STANDARD
TZOFFSETFROM:+0200
TZOFFSETTO:+0100
TZNAME:CET
DTSTART:20191027T010000
END:STANDARD
BEGIN:DAYLIGHT
TZOFFSETFROM:+0100
TZOFFSETTO:+0200
TZNAME:CEST
DTSTART:20200329T010000
END:DAYLIGHT
BEGIN:STANDARD
TZOFFSETFROM:+0200
TZOFFSETTO:+0100
TZNAME:CET
DTSTART:20201025T010000
END:STANDARD
BEGIN:DAYLIGHT
TZOFFSETFROM:+0100
TZOFFSETTO:+0200
TZNAME:CEST
DTSTART:20210328T010000
END:DAYLIGHT
BEGIN:STANDARD
TZOFFSETFROM:+0200
TZOFFSETTO:+0100
TZNAME:CET
DTSTART:20211031T010000
END:STANDARD
END:VTIMEZONE
BEGIN:VEVENT
DTSTART;TZID=Europe/Berlin:20200215T100000
DTEND;TZID=Europe/Berlin:20200215T170000
DTSTAMP:20260424T013000
CREATED:20200116T221105Z
LAST-MODIFIED:20200116T221159Z
UID:70467-1581760800-1581786000@vdd-aktuell.de
SUMMARY:Einsteigerseminar "Mut zur Strecke"
DESCRIPTION:Einsteigerseminar zum Thema Distanzreiten für Neulinge und Interessierte. \nAusschreibung und weitere Informationen
URL:https://vdd-aktuell.de/event/einsteigerseminar-mut-zur-strecke/
LOCATION:Landgut Schönwalde\, 14621 Schönwalde-Glien\, Dorfstr. 31\, Schönwalde-Glien\, Deutschland
CATEGORIES:Quali-Seminar,Seminar
ORGANIZER;CN="Reitclub Grunewald e.V.":MAILTO:mutzurstrecke@web.de
END:VEVENT
END:VCALENDAR