BEGIN:VCALENDAR
VERSION:2.0
PRODID:-//Verein Deutscher Distanzreiter und -fahrer e.V. - ECPv6.15.20//NONSGML v1.0//EN
CALSCALE:GREGORIAN
METHOD:PUBLISH
X-WR-CALNAME:Verein Deutscher Distanzreiter und -fahrer e.V.
X-ORIGINAL-URL:https://vdd-aktuell.de
X-WR-CALDESC:Veranstaltungen für Verein Deutscher Distanzreiter und -fahrer e.V.
REFRESH-INTERVAL;VALUE=DURATION:PT1H
X-Robots-Tag:noindex
X-PUBLISHED-TTL:PT1H
BEGIN:VTIMEZONE
TZID:Europe/Berlin
BEGIN:DAYLIGHT
TZOFFSETFROM:+0100
TZOFFSETTO:+0200
TZNAME:CEST
DTSTART:20190331T010000
END:DAYLIGHT
BEGIN:STANDARD
TZOFFSETFROM:+0200
TZOFFSETTO:+0100
TZNAME:CET
DTSTART:20191027T010000
END:STANDARD
BEGIN:DAYLIGHT
TZOFFSETFROM:+0100
TZOFFSETTO:+0200
TZNAME:CEST
DTSTART:20200329T010000
END:DAYLIGHT
BEGIN:STANDARD
TZOFFSETFROM:+0200
TZOFFSETTO:+0100
TZNAME:CET
DTSTART:20201025T010000
END:STANDARD
BEGIN:DAYLIGHT
TZOFFSETFROM:+0100
TZOFFSETTO:+0200
TZNAME:CEST
DTSTART:20210328T010000
END:DAYLIGHT
BEGIN:STANDARD
TZOFFSETFROM:+0200
TZOFFSETTO:+0100
TZNAME:CET
DTSTART:20211031T010000
END:STANDARD
END:VTIMEZONE
BEGIN:VEVENT
DTSTART;VALUE=DATE:20200222
DTEND;VALUE=DATE:20200224
DTSTAMP:20260423T231632
CREATED:20191129T191932Z
LAST-MODIFIED:20191201T105019Z
UID:66439-1582329600-1582502399@vdd-aktuell.de
SUMMARY:Distanzreitabzeichen Modul 3
DESCRIPTION:Modul 3\,Distanzreitabzeichen 1-2 + Pferdeführerschein\nUmgang & Reiten (MIT Pferd)
URL:https://vdd-aktuell.de/event/distanzreitabzeichen-modul-3/
LOCATION:Göttingen\, Silberbreite 20\, Göttingen\, 37079
CATEGORIES:Seminar
ORGANIZER;CN="Anne Wegner":MAILTO:info@anne-wegner.com
END:VEVENT
END:VCALENDAR