BEGIN:VCALENDAR
VERSION:2.0
PRODID:-//Verein Deutscher Distanzreiter und -fahrer e.V. - ECPv6.15.20//NONSGML v1.0//EN
CALSCALE:GREGORIAN
METHOD:PUBLISH
X-ORIGINAL-URL:https://vdd-aktuell.de
X-WR-CALDESC:Veranstaltungen für Verein Deutscher Distanzreiter und -fahrer e.V.
REFRESH-INTERVAL;VALUE=DURATION:PT1H
X-Robots-Tag:noindex
X-PUBLISHED-TTL:PT1H
BEGIN:VTIMEZONE
TZID:Europe/Berlin
BEGIN:DAYLIGHT
TZOFFSETFROM:+0100
TZOFFSETTO:+0200
TZNAME:CEST
DTSTART:20240331T010000
END:DAYLIGHT
BEGIN:STANDARD
TZOFFSETFROM:+0200
TZOFFSETTO:+0100
TZNAME:CET
DTSTART:20241027T010000
END:STANDARD
BEGIN:DAYLIGHT
TZOFFSETFROM:+0100
TZOFFSETTO:+0200
TZNAME:CEST
DTSTART:20250330T010000
END:DAYLIGHT
BEGIN:STANDARD
TZOFFSETFROM:+0200
TZOFFSETTO:+0100
TZNAME:CET
DTSTART:20251026T010000
END:STANDARD
BEGIN:DAYLIGHT
TZOFFSETFROM:+0100
TZOFFSETTO:+0200
TZNAME:CEST
DTSTART:20260329T010000
END:DAYLIGHT
BEGIN:STANDARD
TZOFFSETFROM:+0200
TZOFFSETTO:+0100
TZNAME:CET
DTSTART:20261025T010000
END:STANDARD
END:VTIMEZONE
BEGIN:VEVENT
DTSTART;VALUE=DATE:20250315
DTEND;VALUE=DATE:20250316
DTSTAMP:20260422T105537
CREATED:20241126T154602Z
LAST-MODIFIED:20250312T121338Z
UID:105057-1741996800-1742083199@vdd-aktuell.de
SUMMARY:Einsteigerseminar Distanzreiten - 78315 Radolfzell
DESCRIPTION:Einsteigerseminar Distanzreiten mit VDD Quali-Anerkennung\n78315 Radolfzell\, Gut Weiherhof\nProgrammübersicht: \n\nEinführung in das Distanzreiten\n\nDefinition und Geschichte\nWichtige Regelwerke und Voraussetzungen\nDistanzreiten als Sport und Erlebnis\n\n\n Pferd und Reiter\n\n Voraussetzungen und Anforderungen\n Leistungsphysiologie und Fütterung\n Ausrüstung für Pferd und Reiter\n\n\n Veranstaltungsablauf\n\nPlanung und Durchführung eines Distanzritts\nPraktische Übungen und Verfassungskontrollen\n\n\nNachbereitung und Abschluss\n\nBetreuung der Pferde nach dem Ritt\nWertung und Siegerehrung\nAbschlussdiskussion\n\n\n\nTeilnehmer erhalten eine Seminarbescheinigung. \nMethodik: Lehrgespräch mit PowerPoint-Präsentationen\, Filmen und praktischen Übungen.
URL:https://vdd-aktuell.de/event/einsteigerseminar-distanzreiten-7/
LOCATION:Radolfzell\, Radolfzell\, 78315
CATEGORIES:Quali-Seminar
ORGANIZER;CN="Andre Schaudt":MAILTO:teamorange@hotmail.de
END:VEVENT
BEGIN:VEVENT
DTSTART;VALUE=DATE:20250315
DTEND;VALUE=DATE:20250317
DTSTAMP:20260422T105537
CREATED:20241204T110237Z
LAST-MODIFIED:20241204T110237Z
UID:105113-1741996800-1742169599@vdd-aktuell.de
SUMMARY:Distanztheorie Online Block – Anrechenbar fürs Distanzabzeichen
DESCRIPTION:Distanztheorie Online Block – Anrechenbar fürs Distanzabzeichen \nFür wen? Alle\, die Interesse am Distanzsport haben und sich und ihr Pferd auf den ersten kurzen Distanzwettbewerb und darüber hinaus vorbereiten möchten. Jeder\, der das Distanzabzeichen Stufe 1 anstrebt. \nWas? Interaktives Seminar rund um die Vorbereitung und Teilnahme an kurzen Distanzritten\, Beurteilung des Zustandes des Pferdes\, sicherheitsorientiertes Verhalten\, Vorgehen in Notsituationen. \nWer? Michaela Wilczek\, Trainer B Distanzsport\, Landestrainer Berlin Brandenburg in Kooperation mit der PSG Ruppiner Lande e.V. \nWann? Samstag\, 15.3.2025 – Sonntag\, 16.3.2025\, 10:00 – 17:00 Uhr \nWieviel? 180\,00 € pro Person \nWas noch? In Kombination mit dem Modul „Lehrgang und Prüfung“ Möglichkeit zum Erwerb des Distanzabzeichens Stufe 1. Das Theorie-Seminar kann auch einzeln mit Teilnahmbestätigung abgelegt werden\, eine Teilnahme an dem Praxisteil ist kein Muss! \nWie buchen? Bis zum 13.3.2025 per E-Mail an psg-ruppiner-land@web.de \nWie bezahlen? Per PayPal an psg-ruppiner-land@web.de oder per Überweisung an PSG Ruppiner Lande e.V.\, IBAN: DE39 1605 0202 1001 0127 86\, Betreff: Theorie Online Block\, Name Teilnehmer
URL:https://vdd-aktuell.de/event/distanztheorie-online-block-anrechenbar-fuers-distanzabzeichen/
CATEGORIES:Quali-Seminar
ORGANIZER;CN="Michaela Wilczek":MAILTO:psg-ruppiner-land@web.de
END:VEVENT
END:VCALENDAR