BEGIN:VCALENDAR
VERSION:2.0
PRODID:-//Verein Deutscher Distanzreiter und -fahrer e.V. - ECPv6.15.20//NONSGML v1.0//EN
CALSCALE:GREGORIAN
METHOD:PUBLISH
X-WR-CALNAME:Verein Deutscher Distanzreiter und -fahrer e.V.
X-ORIGINAL-URL:https://vdd-aktuell.de
X-WR-CALDESC:Veranstaltungen für Verein Deutscher Distanzreiter und -fahrer e.V.
REFRESH-INTERVAL;VALUE=DURATION:PT1H
X-Robots-Tag:noindex
X-PUBLISHED-TTL:PT1H
BEGIN:VTIMEZONE
TZID:Europe/Berlin
BEGIN:DAYLIGHT
TZOFFSETFROM:+0100
TZOFFSETTO:+0200
TZNAME:CEST
DTSTART:20250330T010000
END:DAYLIGHT
BEGIN:STANDARD
TZOFFSETFROM:+0200
TZOFFSETTO:+0100
TZNAME:CET
DTSTART:20251026T010000
END:STANDARD
BEGIN:DAYLIGHT
TZOFFSETFROM:+0100
TZOFFSETTO:+0200
TZNAME:CEST
DTSTART:20260329T010000
END:DAYLIGHT
BEGIN:STANDARD
TZOFFSETFROM:+0200
TZOFFSETTO:+0100
TZNAME:CET
DTSTART:20261025T010000
END:STANDARD
BEGIN:DAYLIGHT
TZOFFSETFROM:+0100
TZOFFSETTO:+0200
TZNAME:CEST
DTSTART:20270328T010000
END:DAYLIGHT
BEGIN:STANDARD
TZOFFSETFROM:+0200
TZOFFSETTO:+0100
TZNAME:CET
DTSTART:20271031T010000
END:STANDARD
END:VTIMEZONE
BEGIN:VEVENT
DTSTART;TZID=Europe/Berlin:20260424T140000
DTEND;TZID=Europe/Berlin:20260426T160000
DTSTAMP:20260424T011635
CREATED:20251207T201231Z
LAST-MODIFIED:20260120T115924Z
UID:106926-1777039200-1777219200@vdd-aktuell.de
SUMMARY:Distanzseminar für Einsteiger – Thomashof\, Schneverdingen-Wesseloh
DESCRIPTION:Distanzseminar für Einsteiger – Sicherer Einstieg in den Distanzsport \nFür Reiter und Fahrer (Qualifikationskurs) \n24.04.2026\, 14:00 Uhr – 26.04.2026\, ca. 16:00 Uhr\n📍 Thomashof\, Schneverdingen-Wesseloh \nDieses Seminar richtet sich an Reiter und Fahrer\, die einen fundierten und pferdegerechten Einstieg in den Distanzsport suchen oder ihre ersten Erfahrungen vertiefen möchten. In einer kleinen Gruppe werden die Grundlagen von Training\, Reglement und Wettkampfablauf verständlich vermittelt und direkt in die Praxis umgesetzt. \nInhalte (Auszug): \n\nEinführung in den Distanzsport: Ablauf\, Reglement und Qualifikation\nAnforderungen an Pferd und Reiter/Fahrer\nAusrüstung\, Vortraben\, Pulsmessung und Vet-Gate\nTrainingsgrundlagen für kurze Distanzen\nRennbahntraining zur Ermittlung der Wohlfühlgeschwindigkeit\nGymnastizierende Arbeit als Basis für das Distanzpferd\nGeführter Geländeritt und erste Wettkampfsituationen\nChiropraktische Einschätzung der Pferde (optional)\n\nDas Seminar verbindet praxisnahe Theorie mit individuell angepassten Praxiseinheiten und schafft eine solide Grundlage für die ersten Starts im Distanzsport. \nReferenten:\nGaby Riebesell · Thomas Renneberg · Mareike Lentz · Sina Baumung \n👉 Ausschreibung\, weitere Informationen und Onlineanmeldung:\nwww.thomashofdistanz.de/academy \nVeranstalter:\nThomashofdistanz Academy  \n  \n  \nVeranstalter:\nThomashofdistanz Academy\nE-Mail: academy@thomashofdistanz.de\nWebsite: www.thomashofdistanz.de \nVeranstaltungsort:\nThomashofdistanz\nMaatheide 10\n29640 Schneverdingen-Wesseloh
URL:https://vdd-aktuell.de/event/thomashofdistanz-academy-2/
CATEGORIES:Quali-Seminar,Seminar
ORGANIZER;CN="mareike lentz":MAILTO:academy@thomashofdistanz.de
END:VEVENT
END:VCALENDAR