BEGIN:VCALENDAR
VERSION:2.0
PRODID:-//Verein Deutscher Distanzreiter und -fahrer e.V. - ECPv6.15.20//NONSGML v1.0//EN
CALSCALE:GREGORIAN
METHOD:PUBLISH
X-ORIGINAL-URL:https://vdd-aktuell.de
X-WR-CALDESC:Veranstaltungen für Verein Deutscher Distanzreiter und -fahrer e.V.
REFRESH-INTERVAL;VALUE=DURATION:PT1H
X-Robots-Tag:noindex
X-PUBLISHED-TTL:PT1H
BEGIN:VTIMEZONE
TZID:Europe/Berlin
BEGIN:DAYLIGHT
TZOFFSETFROM:+0100
TZOFFSETTO:+0200
TZNAME:CEST
DTSTART:20240331T010000
END:DAYLIGHT
BEGIN:STANDARD
TZOFFSETFROM:+0200
TZOFFSETTO:+0100
TZNAME:CET
DTSTART:20241027T010000
END:STANDARD
BEGIN:DAYLIGHT
TZOFFSETFROM:+0100
TZOFFSETTO:+0200
TZNAME:CEST
DTSTART:20250330T010000
END:DAYLIGHT
BEGIN:STANDARD
TZOFFSETFROM:+0200
TZOFFSETTO:+0100
TZNAME:CET
DTSTART:20251026T010000
END:STANDARD
BEGIN:DAYLIGHT
TZOFFSETFROM:+0100
TZOFFSETTO:+0200
TZNAME:CEST
DTSTART:20260329T010000
END:DAYLIGHT
BEGIN:STANDARD
TZOFFSETFROM:+0200
TZOFFSETTO:+0100
TZNAME:CET
DTSTART:20261025T010000
END:STANDARD
END:VTIMEZONE
BEGIN:VEVENT
DTSTART;VALUE=DATE:20250529
DTEND;VALUE=DATE:20250602
DTSTAMP:20260422T134835
CREATED:20241204T111037Z
LAST-MODIFIED:20250312T120922Z
UID:105117-1748476800-1748822399@vdd-aktuell.de
SUMMARY:Distanzabzeichen Stufe 1 – Lehrgang & Prüfung - 15345 Rehfelde
DESCRIPTION:Für wen? Alle\, die das Distanzabzeichen ablegen wollen und entweder den Sichtungslehrgang mitgemacht haben (ohne Qualistufe) oder Distanz­erfahrung besitzen (mit Qualistufe) sowie einen der Theorieteile zum Distanzabzeichen online abgeschlossen haben. \nVoraussetzung? Sicheres Beherrschen des Pferdes im Gelände in allen Gangarten. \nWas? Praktische Vorbereitung der Prüfungsaufgaben\, Wiederholung der Theorie\, Prüfung (wenn zugelassen). \nWer? Michaela Wilczek\, Trainer B Distanzsport\, Landestrainer Berlin Brandenburg in Kooperation mit der PSG Ruppiner Lande e.V. \nWann? Donnerstag\, 29.5.2025\, 17:00 Uhr – Sonntag\, 1.6.2025\, ca. 16:00 Uhr (Prüfung mit Ritt­simulation am Sonntag) \nWo? Trainingsstützpunkt Distanzsport BB | Pferderesidenz Junkbrunnen\, Werdersche Dorfstr. 75\, 15345 Rehfelde \nWieviel? 200\,00 € pro Person\, zzgl. Pferde­unterbringung und Prüfungs­gebühr \nWas noch? In Kombination mit dem Modul „Theorie Online Distanz­abzeichen“ und ggfs. „Sichtungs­lehrgang“ Möglichkeit zum Erreichen des Distanzabzeichens \nWie buchen? Bis zum 30.4.2025 per E-Mail an psg-ruppiner-land@web.de \nWie bezahlen? Per PayPal an psg-ruppiner-land@web.de oder per Überweisung an PSG Ruppiner Lande e.V.\, IBAN: DE39 1605 0202 1001 0127 86\, Betreff: Distanzabzeichen Lehrgang\, Name Teilnehmer
URL:https://vdd-aktuell.de/event/distanzabzeichen-stufe-1-lehrgang-pruefung/
LOCATION:Pferderesidenz Junkbrunnen\, Werdersche Dorfstr. 75\, 15345 Rehfelde\, Werdersche Dorfstr. 75\, Rehfelde\, 15345\, Germany
CATEGORIES:Quali-Seminar
ORGANIZER;CN="Michaela Wilczek":MAILTO:psg-ruppiner-land@web.de
END:VEVENT
BEGIN:VEVENT
DTSTART;VALUE=DATE:20250621
DTEND;VALUE=DATE:20250622
DTSTAMP:20260422T134835
CREATED:20241207T100853Z
LAST-MODIFIED:20241207T100853Z
UID:105147-1750464000-1750550399@vdd-aktuell.de
SUMMARY:FEI Endurance European Championship
DESCRIPTION:
URL:https://vdd-aktuell.de/event/fei-endurance-european-championship/
LOCATION:Castiglione del Lago\, Italy
CATEGORIES:Meisterschaften,Wichtige Termine
END:VEVENT
BEGIN:VEVENT
DTSTART;VALUE=DATE:20250627
DTEND;VALUE=DATE:20250630
DTSTAMP:20260422T134835
CREATED:20241207T095744Z
LAST-MODIFIED:20250129T110221Z
UID:105138-1750982400-1751241599@vdd-aktuell.de
SUMMARY:Deutsche Meisterschaft im Distanzreiten
DESCRIPTION:In diesem Jahr finden die Deutsche Meisterschaft und die Deutsche Jugendmeisterschaft im Distanzreiten in Dormagen statt!\nInformationen zur Teilnahme an den Meisterschaften\n 
URL:https://vdd-aktuell.de/event/deutschen-meisterschaften/
LOCATION:Dormagen
CATEGORIES:Meisterschaften,Wichtige Termine
END:VEVENT
END:VCALENDAR